BEGIN:VCALENDAR
VERSION:2.0
PRODID:-//LC3 - ECPv6.15.20//NONSGML v1.0//EN
CALSCALE:GREGORIAN
METHOD:PUBLISH
X-WR-CALNAME:LC3
X-ORIGINAL-URL:https://lc3.ch
X-WR-CALDESC:Events for LC3
REFRESH-INTERVAL;VALUE=DURATION:PT1H
X-Robots-Tag:noindex
X-PUBLISHED-TTL:PT1H
BEGIN:VTIMEZONE
TZID:Europe/Paris
BEGIN:DAYLIGHT
TZOFFSETFROM:+0100
TZOFFSETTO:+0200
TZNAME:CEST
DTSTART:20240331T010000
END:DAYLIGHT
BEGIN:STANDARD
TZOFFSETFROM:+0200
TZOFFSETTO:+0100
TZNAME:CET
DTSTART:20241027T010000
END:STANDARD
BEGIN:DAYLIGHT
TZOFFSETFROM:+0100
TZOFFSETTO:+0200
TZNAME:CEST
DTSTART:20250330T010000
END:DAYLIGHT
BEGIN:STANDARD
TZOFFSETFROM:+0200
TZOFFSETTO:+0100
TZNAME:CET
DTSTART:20251026T010000
END:STANDARD
BEGIN:DAYLIGHT
TZOFFSETFROM:+0100
TZOFFSETTO:+0200
TZNAME:CEST
DTSTART:20260329T010000
END:DAYLIGHT
BEGIN:STANDARD
TZOFFSETFROM:+0200
TZOFFSETTO:+0100
TZNAME:CET
DTSTART:20261025T010000
END:STANDARD
END:VTIMEZONE
BEGIN:VEVENT
DTSTART;TZID=Europe/Paris:20251201T080000
DTEND;TZID=Europe/Paris:20251203T170000
DTSTAMP:20260419T210019
CREATED:20250612T073604Z
LAST-MODIFIED:20251101T104146Z
UID:8371-1764576000-1764781200@lc3.ch
SUMMARY:LC3 Day 2025\, Muscat\, Oman
DESCRIPTION:We are delighted to announce that LC3 Day 2025 will take place in Muscat\, Oman on 2nd December 2025\, bringing together experts\, researchers\, and industry leaders to explore the future of sustainable technologies in Calcined Clay and application. \nDECEMBER 1\, 2025: PRE-CONFERENCE COURSE\nA one-day intensive workshop hosted at the German University of Technology in Oman (GUtech)\, offering deep insights into LC3 / LC2 and its applications. \nDECEMBER 2\, 2025: LC3-DAY MAIN EVENT \nDECEMBER 3\, 2025: SITE VISIT\nPost-Conference Site Visit An exclusive tour to the first Calcined Clay Factory in the Middle East\, located in Sohar. A unique opportunity to witness cutting-edge sustainable production in action. \nJoin us for this milestone event\, where innovation meets tradition in advancing low-carbon construction solutions. \nBrochure \nRegistration
URL:https://lc3.ch/event/lc3-day-2025/
LOCATION:Grand Millennium Muscat\, Oman
CATEGORIES:AnnualEvent
ATTACH;FMTTYPE=image/png:https://lc3.ch/wp-content/uploads/2025/09/oman2.png
END:VEVENT
BEGIN:VEVENT
DTSTART;TZID=Europe/Paris:20251204T083000
DTEND;TZID=Europe/Paris:20251204T150000
DTSTAMP:20260419T210019
CREATED:20251016T133135Z
LAST-MODIFIED:20251114T092503Z
UID:8484-1764837000-1764860400@lc3.ch
SUMMARY:LC3 Day\, Addis Ababa\, Ethiopia
DESCRIPTION:This LC3 information day offers a platform to align Ethiopia’s urban development with its climate ambitions through sustainable\, low-carbon materials. It aims to spark collaboration and chart practical steps for the adoption of LC3 technology in the region. \nHosted by the LC3 initiative\, under Professor Karen Scrivener and her research team\, this event will gather Ethiopia’s key stakeholders – government officials\, academics\, and cement producers – to explore the potential of LC3\, an innovative supplementary cementitious material (SCM) enabling low-carbon\, high-performance construction. \nEthiopia\, one of Africa’s fastest-urbanizing nations\, faces rising demand for housing and infrastructure alongside a strong climate commitment. Under its Climate-Resilient Green Economy (CRGE) strategy and updated Nationally Determined Contribution (NDC)\, the government targets a 64% emission reduction by 2030 compared to a business-as-usual scenario. The cement sector is recognized as a key decarbonization lever\, where replacing clinker with SCMs like LC3 could save millions of tonnes of CO₂. \nHighlights\n\nKeynotes by Prof. Scrivener and the LC3 team on LC3’s performance\, applications\, economic feasibility and standards.\nLocal perspectives from policymakers and industry leaders on infrastructure needs\, material policy\, and LC3 implementation pathways.\nDialogue on integrating LC3 within Ethiopia’s construction sector and advancing green-growth goals.\n\nREGISTRATION \n \nDownload the Flyer
URL:https://lc3.ch/event/lc3-day-addis-ababa-ethiopia/
LOCATION:Hilton Addis Ababa\, Hilton Addis Ababa\, Menelik II Avenue\, Addis Ababa\, P.O.Box 1164\, Ethiopia
ATTACH;FMTTYPE=image/jpeg:https://lc3.ch/wp-content/uploads/2025/10/adisHilton.jpg
END:VEVENT
BEGIN:VEVENT
DTSTART;VALUE=DATE:20251215
DTEND;VALUE=DATE:20251218
DTSTAMP:20260419T210019
CREATED:20251216T102520Z
LAST-MODIFIED:20251216T102752Z
UID:8695-1765756800-1766015999@lc3.ch
SUMMARY:LC3 Days\, Delhi\, India
DESCRIPTION:We have a busy schedule over three days in Delhi: \n15th December\nCommercial production and application in India \n16th December\nTraining course on chemistry of sustainable cements \n17th December\nStakeholder symposium – Future sustainable cement researchers \nPROGRAM
URL:https://lc3.ch/event/lc3-days-delhi-india/
LOCATION:Auditorium\, IITD Delhi\, Auditorium\, Research and Innovation Park\, IIT Delhi\, Hauz Khas\, New Delhi\, 110016\, India
ATTACH;FMTTYPE=image/jpeg:https://lc3.ch/wp-content/uploads/2025/12/iitd.jpg
END:VEVENT
END:VCALENDAR